BEGIN:VCALENDAR
VERSION:2.0
CALSCALE:GREGORIAN
PRODID:UnionActive
BEGIN:VEVENT
UID:10905259@ufcwlocal186d.com
SUMMARY:Holiday
DESCRIPTION:Contact:  \nLink for more information: http://ufcwlocal186d.com/index.cfm?zone=/unionactive/view_calendar.cfm&calendarID=10905259&thisdate=04/19/2019&useCalSection=main
LOCATION:
URL:http://ufcwlocal186d.com/index.cfm?zone=/unionactive/view_calendar.cfm&calendarID=10905259&thisdate=04/19/2019&useCalSection=main
DTSTART:20190419T070000Z
DTEND:20190419T070000Z
DTSTAMP:20240305T014214
TRIGGER:-PT60M
END:VEVENT
END:VCALENDAR
