BEGIN:VCALENDAR
VERSION:2.0
CALSCALE:GREGORIAN
PRODID:UnionActive
BEGIN:VEVENT
UID:10905267@ufcwlocal186d.com
SUMMARY:Holiday
DESCRIPTION:Contact:  \nLink for more information: http://ufcwlocal186d.com/index.cfm?zone=/unionactive/view_calendar.cfm&calendarID=10905267&thisdate=12/31/2019&useCalSection=main
LOCATION:
URL:http://ufcwlocal186d.com/index.cfm?zone=/unionactive/view_calendar.cfm&calendarID=10905267&thisdate=12/31/2019&useCalSection=main
DTSTART:20191231T160000Z
DTEND:20191231T170000Z
DTSTAMP:20240305T014207
TRIGGER:-PT60M
END:VEVENT
END:VCALENDAR
