BEGIN:VCALENDAR
VERSION:2.0
CALSCALE:GREGORIAN
PRODID:UnionActive
BEGIN:VEVENT
UID:10905270@ufcwlocal186d.com
SUMMARY:2nd Step MTG / GM
DESCRIPTION:Contact:  \nLink for more information: http://ufcwlocal186d.com/index.cfm?zone=/unionactive/view_calendar.cfm&calendarID=10905270&thisdate=01/10/2019&useCalSection=main
LOCATION:
URL:http://ufcwlocal186d.com/index.cfm?zone=/unionactive/view_calendar.cfm&calendarID=10905270&thisdate=01/10/2019&useCalSection=main
DTSTART:20190110T080000Z
DTEND:20190110T080000Z
DTSTAMP:20240305T014214
TRIGGER:-PT60M
END:VEVENT
END:VCALENDAR
