BEGIN:VCALENDAR
VERSION:2.0
CALSCALE:GREGORIAN
PRODID:UnionActive
BEGIN:VEVENT
UID:10905271@ufcwlocal186d.com
SUMMARY:MTG / TWG RD Petition
DESCRIPTION:Contact:  \nLink for more information: http://ufcwlocal186d.com/index.cfm?zone=/unionactive/view_calendar.cfm&calendarID=10905271&thisdate=01/28/2019&useCalSection=main
LOCATION:
URL:http://ufcwlocal186d.com/index.cfm?zone=/unionactive/view_calendar.cfm&calendarID=10905271&thisdate=01/28/2019&useCalSection=main
DTSTART:20190128T080000Z
DTEND:20190128T080000Z
DTSTAMP:20240305T014209
TRIGGER:-PT60M
END:VEVENT
END:VCALENDAR
