BEGIN:VCALENDAR
VERSION:2.0
CALSCALE:GREGORIAN
PRODID:UnionActive
BEGIN:VEVENT
UID:10905280@ufcwlocal186d.com
SUMMARY:E.Board
DESCRIPTION:Contact:  \nLink for more information: http://ufcwlocal186d.com/index.cfm?zone=/unionactive/view_calendar.cfm&calendarID=10905280&thisdate=07/13/2019&useCalSection=main
LOCATION:
URL:http://ufcwlocal186d.com/index.cfm?zone=/unionactive/view_calendar.cfm&calendarID=10905280&thisdate=07/13/2019&useCalSection=main
DTSTART:20190713T070000Z
DTEND:20190713T070000Z
DTSTAMP:20240305T014215
TRIGGER:-PT60M
END:VEVENT
END:VCALENDAR
