BEGIN:VCALENDAR
VERSION:2.0
CALSCALE:GREGORIAN
PRODID:UnionActive
BEGIN:VEVENT
UID:10905360@ufcwlocal186d.com
SUMMARY:NLRB/ MTG / TWG
DESCRIPTION:Contact:  \nLink for more information: http://ufcwlocal186d.com/index.cfm?zone=/unionactive/view_calendar.cfm&calendarID=10905360&thisdate=02/05/2019&useCalSection=main
LOCATION:
URL:http://ufcwlocal186d.com/index.cfm?zone=/unionactive/view_calendar.cfm&calendarID=10905360&thisdate=02/05/2019&useCalSection=main
DTSTART:20190205T080000Z
DTEND:20190205T080000Z
DTSTAMP:20240305T014221
TRIGGER:-PT60M
END:VEVENT
END:VCALENDAR
