BEGIN:VCALENDAR
VERSION:2.0
CALSCALE:GREGORIAN
PRODID:UnionActive
BEGIN:VEVENT
UID:10905363@ufcwlocal186d.com
SUMMARY:TWG
DESCRIPTION:Contact:  \nLink for more information: http://ufcwlocal186d.com/index.cfm?zone=/unionactive/view_calendar.cfm&calendarID=10905363&thisdate=06/03/2019&useCalSection=main
LOCATION:
URL:http://ufcwlocal186d.com/index.cfm?zone=/unionactive/view_calendar.cfm&calendarID=10905363&thisdate=06/03/2019&useCalSection=main
DTSTART:20190603T070000Z
DTEND:20190603T070000Z
DTSTAMP:20240305T014205
TRIGGER:-PT60M
END:VEVENT
END:VCALENDAR
