BEGIN:VCALENDAR
VERSION:2.0
CALSCALE:GREGORIAN
PRODID:UnionActive
BEGIN:VEVENT
UID:10905365@ufcwlocal186d.com
SUMMARY:TWG
DESCRIPTION:Contact:  \nLink for more information: http://ufcwlocal186d.com/index.cfm?zone=/unionactive/view_calendar.cfm&calendarID=10905365&thisdate=12/02/2019&useCalSection=main
LOCATION:
URL:http://ufcwlocal186d.com/index.cfm?zone=/unionactive/view_calendar.cfm&calendarID=10905365&thisdate=12/02/2019&useCalSection=main
DTSTART:20191202T080000Z
DTEND:20191202T080000Z
DTSTAMP:20240305T014221
TRIGGER:-PT60M
END:VEVENT
END:VCALENDAR
