BEGIN:VCALENDAR
VERSION:2.0
CALSCALE:GREGORIAN
PRODID:UnionActive
BEGIN:VEVENT
UID:10905375@ufcwlocal186d.com
SUMMARY:GM
DESCRIPTION:Contact:  \nLink for more information: http://ufcwlocal186d.com/index.cfm?zone=/unionactive/view_calendar.cfm&calendarID=10905375&thisdate=06/10/2019&useCalSection=main
LOCATION:
URL:http://ufcwlocal186d.com/index.cfm?zone=/unionactive/view_calendar.cfm&calendarID=10905375&thisdate=06/10/2019&useCalSection=main
DTSTART:20190610T070000Z
DTEND:20190610T070000Z
DTSTAMP:20240305T014216
TRIGGER:-PT60M
END:VEVENT
END:VCALENDAR
