BEGIN:VCALENDAR
VERSION:2.0
CALSCALE:GREGORIAN
PRODID:UnionActive
BEGIN:VEVENT
UID:10905381@ufcwlocal186d.com
SUMMARY:CK/S
DESCRIPTION:Contact:  \nLink for more information: http://ufcwlocal186d.com/index.cfm?zone=/unionactive/view_calendar.cfm&calendarID=10905381&thisdate=12/10/2019&useCalSection=main
LOCATION:
URL:http://ufcwlocal186d.com/index.cfm?zone=/unionactive/view_calendar.cfm&calendarID=10905381&thisdate=12/10/2019&useCalSection=main
DTSTART:20191210T080000Z
DTEND:20191210T080000Z
DTSTAMP:20240305T014210
TRIGGER:-PT60M
END:VEVENT
END:VCALENDAR
