BEGIN:VCALENDAR
VERSION:2.0
CALSCALE:GREGORIAN
PRODID:UnionActive
BEGIN:VEVENT
UID:10905382@ufcwlocal186d.com
SUMMARY:D
DESCRIPTION:Contact:  \nLink for more information: http://ufcwlocal186d.com/index.cfm?zone=/unionactive/view_calendar.cfm&calendarID=10905382&thisdate=03/13/2019&useCalSection=main
LOCATION:
URL:http://ufcwlocal186d.com/index.cfm?zone=/unionactive/view_calendar.cfm&calendarID=10905382&thisdate=03/13/2019&useCalSection=main
DTSTART:20190313T070000Z
DTEND:20190313T070000Z
DTSTAMP:20240305T014206
TRIGGER:-PT60M
END:VEVENT
END:VCALENDAR
