BEGIN:VCALENDAR
VERSION:2.0
CALSCALE:GREGORIAN
PRODID:UnionActive
BEGIN:VEVENT
UID:10905385@ufcwlocal186d.com
SUMMARY:D
DESCRIPTION:Contact:  \nLink for more information: http://ufcwlocal186d.com/index.cfm?zone=/unionactive/view_calendar.cfm&calendarID=10905385&thisdate=12/11/2019&useCalSection=main
LOCATION:
URL:http://ufcwlocal186d.com/index.cfm?zone=/unionactive/view_calendar.cfm&calendarID=10905385&thisdate=12/11/2019&useCalSection=main
DTSTART:20191211T080000Z
DTEND:20191211T080000Z
DTSTAMP:20240305T014215
TRIGGER:-PT60M
END:VEVENT
END:VCALENDAR
