BEGIN:VCALENDAR
VERSION:2.0
CALSCALE:GREGORIAN
PRODID:UnionActive
BEGIN:VEVENT
UID:10905386@ufcwlocal186d.com
SUMMARY:ARB / GM Helms
DESCRIPTION:Contact:  \nLink for more information: http://ufcwlocal186d.com/index.cfm?zone=/unionactive/view_calendar.cfm&calendarID=10905386&thisdate=03/14/2019&useCalSection=main
LOCATION:
URL:http://ufcwlocal186d.com/index.cfm?zone=/unionactive/view_calendar.cfm&calendarID=10905386&thisdate=03/14/2019&useCalSection=main
DTSTART:20190314T070000Z
DTEND:20190314T070000Z
DTSTAMP:20240305T014211
TRIGGER:-PT60M
END:VEVENT
END:VCALENDAR
