BEGIN:VCALENDAR
VERSION:2.0
CALSCALE:GREGORIAN
PRODID:UnionActive
BEGIN:VEVENT
UID:10918142@ufcwlocal186d.com
SUMMARY:TWG NEGOTIATIONS 
DESCRIPTION:Contact:  \nLink for more information: http://ufcwlocal186d.com/index.cfm?zone=/unionactive/view_calendar.cfm&calendarID=10918142&thisdate=04/30/2019&useCalSection=main
LOCATION:Double Tree 
URL:http://ufcwlocal186d.com/index.cfm?zone=/unionactive/view_calendar.cfm&calendarID=10918142&thisdate=04/30/2019&useCalSection=main
DTSTART:20190430T150000Z
DTEND:20190501T000000Z
DTSTAMP:20240305T014219
TRIGGER:-PT60M
END:VEVENT
END:VCALENDAR
