BEGIN:VCALENDAR
VERSION:2.0
CALSCALE:GREGORIAN
PRODID:UnionActive
BEGIN:VEVENT
UID:10918144@ufcwlocal186d.com
SUMMARY:TWG NEGOTIATIONS 
DESCRIPTION:Contact:  \nLink for more information: http://ufcwlocal186d.com/index.cfm?zone=/unionactive/view_calendar.cfm&calendarID=10918144&thisdate=05/01/2019&useCalSection=main
LOCATION:Double tree 
URL:http://ufcwlocal186d.com/index.cfm?zone=/unionactive/view_calendar.cfm&calendarID=10918144&thisdate=05/01/2019&useCalSection=main
DTSTART:20190501T150000Z
DTEND:20190502T000000Z
DTSTAMP:20240305T014220
TRIGGER:-PT60M
END:VEVENT
END:VCALENDAR
